BEGIN:VCALENDAR
VERSION:2.0
PRODID:-//Roscoe Village Neighbors - ECPv6.15.20//NONSGML v1.0//EN
CALSCALE:GREGORIAN
METHOD:PUBLISH
X-ORIGINAL-URL:https://www.roscoevillage.org
X-WR-CALDESC:Events for Roscoe Village Neighbors
REFRESH-INTERVAL;VALUE=DURATION:PT1H
X-Robots-Tag:noindex
X-PUBLISHED-TTL:PT1H
BEGIN:VTIMEZONE
TZID:UTC
BEGIN:STANDARD
TZOFFSETFROM:+0000
TZOFFSETTO:+0000
TZNAME:UTC
DTSTART:20240101T000000
END:STANDARD
END:VTIMEZONE
BEGIN:VEVENT
DTSTART;TZID=UTC:20250713T120000
DTEND;TZID=UTC:20250713T170000
DTSTAMP:20260421T191640
CREATED:20250404T203916Z
LAST-MODIFIED:20250709T152958Z
UID:4378-1752408000-1752426000@www.roscoevillage.org
SUMMARY:2025 Roscoe Village Garden Walk
DESCRIPTION:2025 Roscoe Village Garden Walk Guide \n  \n\nCome see the Village bloom! Hosted by Roscoe Village Neighbors and free to attend\, the 2025 Roscoe Village Garden Walk is the perfect opportunity to see the best and most creative gardens the “Village within the City” has to offer.
URL:https://www.roscoevillage.org/event/roscoe-village-garden-walk-2025/
LOCATION:Roscoe Village\, Roscoe St. & Damen Ave.\, Chicago\, IL\, 60657\, United States
CATEGORIES:rvn events
ORGANIZER;CN="Roscoe Village Neighbors":MAILTO:roscoevillageneighbors@gmail.com
END:VEVENT
END:VCALENDAR