BEGIN:VCALENDAR
VERSION:2.0
PRODID:-//Roscoe Village Neighbors - ECPv6.15.20//NONSGML v1.0//EN
CALSCALE:GREGORIAN
METHOD:PUBLISH
X-WR-CALNAME:Roscoe Village Neighbors
X-ORIGINAL-URL:https://www.roscoevillage.org
X-WR-CALDESC:Events for Roscoe Village Neighbors
REFRESH-INTERVAL;VALUE=DURATION:PT1H
X-Robots-Tag:noindex
X-PUBLISHED-TTL:PT1H
BEGIN:VTIMEZONE
TZID:UTC
BEGIN:STANDARD
TZOFFSETFROM:+0000
TZOFFSETTO:+0000
TZNAME:UTC
DTSTART:20250101T000000
END:STANDARD
END:VTIMEZONE
BEGIN:VEVENT
DTSTART;TZID=UTC:20260726T120000
DTEND;TZID=UTC:20260726T170000
DTSTAMP:20260421T071739
CREATED:20260204T210343Z
LAST-MODIFIED:20260204T233035Z
UID:4734-1785067200-1785085200@www.roscoevillage.org
SUMMARY:2026 Roscoe Village Garden Walk
DESCRIPTION:July 26\, 2026 – 12-5pm \nCome see the Village bloom! Hosted by Roscoe Village Neighbors and free to attend\, the 2026 Roscoe Village Garden Walk is the perfect opportunity to see the best and most creative gardens the “Village within the City” has to offer. \nSave the Date! Registration coming soon.
URL:https://www.roscoevillage.org/event/roscoe-village-garden-walk-2026/
CATEGORIES:rvn events
ATTACH;FMTTYPE=image/jpeg:https://www.roscoevillage.org/wp-content/uploads/2025/05/Copy-of-_T1A7066-1.jpg
END:VEVENT
END:VCALENDAR