BEGIN:VCALENDAR
VERSION:2.0
PRODID:-//Roscoe Village Neighbors - ECPv6.15.20//NONSGML v1.0//EN
CALSCALE:GREGORIAN
METHOD:PUBLISH
X-ORIGINAL-URL:https://www.roscoevillage.org
X-WR-CALDESC:Events for Roscoe Village Neighbors
REFRESH-INTERVAL;VALUE=DURATION:PT1H
X-Robots-Tag:noindex
X-PUBLISHED-TTL:PT1H
BEGIN:VTIMEZONE
TZID:UTC
BEGIN:STANDARD
TZOFFSETFROM:+0000
TZOFFSETTO:+0000
TZNAME:UTC
DTSTART:20240101T000000
END:STANDARD
END:VTIMEZONE
BEGIN:VEVENT
DTSTART;TZID=UTC:20250426T080000
DTEND;TZID=UTC:20250426T080000
DTSTAMP:20260421T225236
CREATED:20250216T174234Z
LAST-MODIFIED:20250216T175017Z
UID:4346-1745654400-1745654400@www.roscoevillage.org
SUMMARY:Clean and Green Day 2025
DESCRIPTION:Let the spring cleaning begin! Our annual Clean and Green Day is coming up on April 26th and we need volunteers. Check in between 8AM and 10:30AM. \nMeet us outside of Commonwealth Tavern April 26h between 8AM and 10:30AM to help clean up the neighborhood! All volunteers will be provided with tools\, clean-up bags and gloves. Volunteers can choose their own areas of the neighborhood or we can assign one to you. This can also count as community service hours for students who need them. Can’t wait to see you all there! \n\n\n  \n\n\n\n First Name (required)\n \n \n Last Name (required)\n \n \nEmail (required)\n \n \n Number of Adults (required)\n \n \n Number of Children (required)\n \n \n\n ×
URL:https://www.roscoevillage.org/event/clean-and-green-day-2025/
LOCATION:Roscoe Village\, Roscoe St. & Damen Ave.\, Chicago\, IL\, 60657\, United States
CATEGORIES:rvn events
ATTACH;FMTTYPE=image/jpeg:https://www.roscoevillage.org/wp-content/uploads/2021/04/clean-green.jpg
ORGANIZER;CN="Roscoe Village Neighbors":MAILTO:roscoevillageneighbors@gmail.com
END:VEVENT
END:VCALENDAR